BEGIN:VCALENDAR
VERSION:2.0
PRODID:-// Nelson Alexander - Northcote iCal
CALSCALE:GREGORIAN
X-WR-CALDESC:
X-WR-CALNAME:
BEGIN:VEVENT
SUMMARY:Ofi for 8/672 Nicholson Street\, Fitzroy North VIC 3068 
DTSTART;TZID=UTC;VALUE=DATE-TIME:20260422T024500Z
DTEND;TZID=UTC;VALUE=DATE-TIME:20260422T031500Z
DTSTAMP;VALUE=DATE-TIME:20260422T111651Z
CATEGORIES:APPOINTMENT
DESCRIPTION:Ofi for 8/672 Nicholson Street\, Fitzroy North VIC 3068 
LOCATION:8/672 Nicholson Street\, Fitzroy North VIC 3068 
URL:https://www.nelsonalexander.com.au/property/1834061/8672-nicholson-str
 eet-fitzroy-north-vic-3068/
END:VEVENT
END:VCALENDAR
