BEGIN:VCALENDAR
VERSION:2.0
PRODID:-// Nelson Alexander - Northcote iCal
CALSCALE:GREGORIAN
X-WR-CALDESC:
X-WR-CALNAME:
BEGIN:VEVENT
SUMMARY:Ofi for 2/526 Pascoe Vale Road\, Pascoe Vale VIC 3044 
DTSTART;TZID=UTC;VALUE=DATE-TIME:20260422T064000Z
DTEND;TZID=UTC;VALUE=DATE-TIME:20260422T065500Z
DTSTAMP;VALUE=DATE-TIME:20260421T225101Z
CATEGORIES:APPOINTMENT
DESCRIPTION:Ofi for 2/526 Pascoe Vale Road\, Pascoe Vale VIC 3044 
LOCATION:2/526 Pascoe Vale Road\, Pascoe Vale VIC 3044 
URL:https://www.nelsonalexander.com.au/property/1838160/2526-pascoe-vale-r
 oad-pascoe-vale-vic-3044/
END:VEVENT
END:VCALENDAR
