BEGIN:VCALENDAR
VERSION:2.0
PRODID:-// Nelson Alexander - Northcote iCal
CALSCALE:GREGORIAN
X-WR-CALDESC:
X-WR-CALNAME:
BEGIN:VEVENT
SUMMARY:Ofi for 15A Swift Street\, Northcote VIC 3070 
DTSTART;TZID=UTC;VALUE=DATE-TIME:20260422T080000Z
DTEND;TZID=UTC;VALUE=DATE-TIME:20260422T083000Z
DTSTAMP;VALUE=DATE-TIME:20260421T215311Z
CATEGORIES:APPOINTMENT
DESCRIPTION:Ofi for 15A Swift Street\, Northcote VIC 3070 
LOCATION:15A Swift Street\, Northcote VIC 3070 
URL:https://www.nelsonalexander.com.au/property/1848714/15a-swift-street-n
 orthcote-vic-3070/
END:VEVENT
END:VCALENDAR
