BEGIN:VCALENDAR
VERSION:2.0
PRODID:-// Nelson Alexander - Northcote iCal
CALSCALE:GREGORIAN
X-WR-CALDESC:
X-WR-CALNAME:
BEGIN:VEVENT
SUMMARY:Ofi for 86/93-103 High Street\, Preston VIC 3072 
DTSTART;TZID=UTC;VALUE=DATE-TIME:20260502T020000Z
DTEND;TZID=UTC;VALUE=DATE-TIME:20260502T023000Z
DTSTAMP;VALUE=DATE-TIME:20260425T021751Z
CATEGORIES:APPOINTMENT
DESCRIPTION:Ofi for 86/93-103 High Street\, Preston VIC 3072 
LOCATION:86/93-103 High Street\, Preston VIC 3072 
URL:https://www.nelsonalexander.com.au/property/1850764/8693-103-high-stre
 et-preston-vic-3072/
END:VEVENT
END:VCALENDAR
