BEGIN:VCALENDAR
VERSION:2.0
PRODID:-// Nelson Alexander - Northcote iCal
CALSCALE:GREGORIAN
X-WR-CALDESC:
X-WR-CALNAME:
BEGIN:VEVENT
SUMMARY:Ofi for 13 Darebin Road\, Thornbury VIC 3071 
DTSTART;TZID=UTC;VALUE=DATE-TIME:20260418T054500Z
DTEND;TZID=UTC;VALUE=DATE-TIME:20260418T061500Z
DTSTAMP;VALUE=DATE-TIME:20260421T184901Z
CATEGORIES:APPOINTMENT
DESCRIPTION:Ofi for 13 Darebin Road\, Thornbury VIC 3071 
LOCATION:13 Darebin Road\, Thornbury VIC 3071 
URL:https://www.nelsonalexander.com.au/property/1856559/13-darebin-road-th
 ornbury-vic-3071/
END:VEVENT
END:VCALENDAR
