BEGIN:VCALENDAR
VERSION:2.0
PRODID:-// Nelson Alexander - Northcote iCal
CALSCALE:GREGORIAN
X-WR-CALDESC:
X-WR-CALNAME:
BEGIN:VEVENT
SUMMARY:Ofi for 9 Thornton Avenue\, Surrey Hills VIC 3127 
DTSTART;TZID=UTC;VALUE=DATE-TIME:20260423T020000Z
DTEND;TZID=UTC;VALUE=DATE-TIME:20260423T023000Z
DTSTAMP;VALUE=DATE-TIME:20260423T033354Z
CATEGORIES:APPOINTMENT
DESCRIPTION:Ofi for 9 Thornton Avenue\, Surrey Hills VIC 3127 
LOCATION:9 Thornton Avenue\, Surrey Hills VIC 3127 
URL:https://www.nelsonalexander.com.au/property/1872869/9-thornton-avenue-
 surrey-hills-vic-3127/
END:VEVENT
END:VCALENDAR
