BEGIN:VCALENDAR
VERSION:2.0
PRODID:-// Nelson Alexander - Northcote iCal
CALSCALE:GREGORIAN
X-WR-CALDESC:
X-WR-CALNAME:
BEGIN:VEVENT
SUMMARY:Ofi for 1402/35 Spring Street\, Melbourne VIC 3000 
DTSTART;TZID=UTC;VALUE=DATE-TIME:20260423T230000Z
DTEND;TZID=UTC;VALUE=DATE-TIME:20260423T231500Z
DTSTAMP;VALUE=DATE-TIME:20260421T214049Z
CATEGORIES:APPOINTMENT
DESCRIPTION:Ofi for 1402/35 Spring Street\, Melbourne VIC 3000 
LOCATION:1402/35 Spring Street\, Melbourne VIC 3000 
URL:https://www.nelsonalexander.com.au/property/1873066/140235-spring-stre
 et-melbourne-vic-3000/
END:VEVENT
END:VCALENDAR
