BEGIN:VCALENDAR
VERSION:2.0
PRODID:-// Nelson Alexander - Northcote iCal
CALSCALE:GREGORIAN
X-WR-CALDESC:
X-WR-CALNAME:
BEGIN:VEVENT
SUMMARY:Ofi for 10 Pilgrim Court\, Rosanna VIC 3084 
DTSTART;TZID=UTC;VALUE=DATE-TIME:20260425T051500Z
DTEND;TZID=UTC;VALUE=DATE-TIME:20260425T054500Z
DTSTAMP;VALUE=DATE-TIME:20260425T074329Z
CATEGORIES:APPOINTMENT
DESCRIPTION:Ofi for 10 Pilgrim Court\, Rosanna VIC 3084 
LOCATION:10 Pilgrim Court\, Rosanna VIC 3084 
URL:https://www.nelsonalexander.com.au/property/1873345/10-pilgrim-court-r
 osanna-vic-3084/
END:VEVENT
END:VCALENDAR
