BEGIN:VCALENDAR
VERSION:2.0
PRODID:-// Nelson Alexander - Northcote iCal
CALSCALE:GREGORIAN
X-WR-CALDESC:
X-WR-CALNAME:
BEGIN:VEVENT
SUMMARY:Ofi for 2/31 Peel Street\, Kew VIC 3101 
DTSTART;TZID=UTC;VALUE=DATE-TIME:20260423T013000Z
DTEND;TZID=UTC;VALUE=DATE-TIME:20260423T014000Z
DTSTAMP;VALUE=DATE-TIME:20260421T014344Z
CATEGORIES:APPOINTMENT
DESCRIPTION:Ofi for 2/31 Peel Street\, Kew VIC 3101 
LOCATION:2/31 Peel Street\, Kew VIC 3101 
URL:https://www.nelsonalexander.com.au/property/1874208/231-peel-street-ke
 w-vic-3101/
END:VEVENT
END:VCALENDAR
