BEGIN:VCALENDAR
VERSION:2.0
PRODID:-// Nelson Alexander - Northcote iCal
CALSCALE:GREGORIAN
X-WR-CALDESC:
X-WR-CALNAME:
BEGIN:VEVENT
SUMMARY:Ofi for 13 Reid Street\, Northcote VIC 3070 
DTSTART;TZID=UTC;VALUE=DATE-TIME:20260425T044500Z
DTEND;TZID=UTC;VALUE=DATE-TIME:20260425T050000Z
DTSTAMP;VALUE=DATE-TIME:20260421T233210Z
CATEGORIES:APPOINTMENT
DESCRIPTION:Ofi for 13 Reid Street\, Northcote VIC 3070 
LOCATION:13 Reid Street\, Northcote VIC 3070 
URL:https://www.nelsonalexander.com.au/property/1874464/13-reid-street-nor
 thcote-vic-3070/
END:VEVENT
END:VCALENDAR
