BEGIN:VCALENDAR
VERSION:2.0
PRODID:-// Nelson Alexander - Northcote iCal
CALSCALE:GREGORIAN
X-WR-CALDESC:
X-WR-CALNAME:
BEGIN:VEVENT
SUMMARY:Ofi for 44 Collier Court\, Strathmore Heights VIC 3041 
DTSTART;TZID=UTC;VALUE=DATE-TIME:20260425T050000Z
DTEND;TZID=UTC;VALUE=DATE-TIME:20260425T051500Z
DTSTAMP;VALUE=DATE-TIME:20260425T063956Z
CATEGORIES:APPOINTMENT
DESCRIPTION:Ofi for 44 Collier Court\, Strathmore Heights VIC 3041 
LOCATION:44 Collier Court\, Strathmore Heights VIC 3041 
URL:https://www.nelsonalexander.com.au/property/1875880/44-collier-court-s
 trathmore-heights-vic-3041/
END:VEVENT
END:VCALENDAR
