BEGIN:VCALENDAR
VERSION:2.0
PRODID:-// Nelson Alexander - Northcote iCal
CALSCALE:GREGORIAN
X-WR-CALDESC:
X-WR-CALNAME:
BEGIN:VEVENT
SUMMARY:Ofi for 55-57 Grimshaw Street\, Greensborough VIC 3088 
DTSTART;TZID=UTC;VALUE=DATE-TIME:20260429T020000Z
DTEND;TZID=UTC;VALUE=DATE-TIME:20260429T023000Z
DTSTAMP;VALUE=DATE-TIME:20260421T214223Z
CATEGORIES:APPOINTMENT
DESCRIPTION:Ofi for 55-57 Grimshaw Street\, Greensborough VIC 3088 
LOCATION:55-57 Grimshaw Street\, Greensborough VIC 3088 
URL:https://www.nelsonalexander.com.au/property/1885857/55-57-grimshaw-str
 eet-greensborough-vic-3088/
END:VEVENT
END:VCALENDAR
