BEGIN:VCALENDAR
VERSION:2.0
PRODID:-// Nelson Alexander - Northcote iCal
CALSCALE:GREGORIAN
X-WR-CALDESC:
X-WR-CALNAME:
BEGIN:VEVENT
SUMMARY:Ofi for 1B Hudson Street\, Moonee Ponds VIC 3039 
DTSTART;TZID=UTC;VALUE=DATE-TIME:20260422T070000Z
DTEND;TZID=UTC;VALUE=DATE-TIME:20260422T073000Z
DTSTAMP;VALUE=DATE-TIME:20260419T225904Z
CATEGORIES:APPOINTMENT
DESCRIPTION:Ofi for 1B Hudson Street\, Moonee Ponds VIC 3039 
LOCATION:1B Hudson Street\, Moonee Ponds VIC 3039 
URL:https://www.nelsonalexander.com.au/property/1886209/1b-hudson-street-m
 oonee-ponds-vic-3039/
END:VEVENT
END:VCALENDAR
