BEGIN:VCALENDAR
VERSION:2.0
PRODID:-// Nelson Alexander - Northcote iCal
CALSCALE:GREGORIAN
X-WR-CALDESC:
X-WR-CALNAME:
BEGIN:VEVENT
SUMMARY:Ofi for 162 Nicholson Street\, Fitzroy VIC 3065 
DTSTART;TZID=UTC;VALUE=DATE-TIME:20260425T034500Z
DTEND;TZID=UTC;VALUE=DATE-TIME:20260425T041500Z
DTSTAMP;VALUE=DATE-TIME:20260425T010530Z
CATEGORIES:APPOINTMENT
DESCRIPTION:Ofi for 162 Nicholson Street\, Fitzroy VIC 3065 
LOCATION:162 Nicholson Street\, Fitzroy VIC 3065 
URL:https://www.nelsonalexander.com.au/property/1886219/162-nicholson-stre
 et-fitzroy-vic-3065/
END:VEVENT
END:VCALENDAR
