BEGIN:VCALENDAR
VERSION:2.0
PRODID:-// Nelson Alexander - Northcote iCal
CALSCALE:GREGORIAN
X-WR-CALDESC:
X-WR-CALNAME:
BEGIN:VEVENT
SUMMARY:Ofi for 15/86 Victoria Crescent\, Mont Albert VIC 3127 
DTSTART;TZID=UTC;VALUE=DATE-TIME:20260425T041500Z
DTEND;TZID=UTC;VALUE=DATE-TIME:20260425T044500Z
DTSTAMP;VALUE=DATE-TIME:20260425T010539Z
CATEGORIES:APPOINTMENT
DESCRIPTION:Ofi for 15/86 Victoria Crescent\, Mont Albert VIC 3127 
LOCATION:15/86 Victoria Crescent\, Mont Albert VIC 3127 
URL:https://www.nelsonalexander.com.au/property/1889128/1586-victoria-cres
 cent-mont-albert-vic-3127/
END:VEVENT
END:VCALENDAR
