BEGIN:VCALENDAR
VERSION:2.0
PRODID:-// Nelson Alexander - Northcote iCal
CALSCALE:GREGORIAN
X-WR-CALDESC:
X-WR-CALNAME:
BEGIN:VEVENT
SUMMARY:Ofi for 3/167 Lower Heidelberg Road\, Ivanhoe VIC 3079 
DTSTART;TZID=UTC;VALUE=DATE-TIME:20260424T014500Z
DTEND;TZID=UTC;VALUE=DATE-TIME:20260424T020000Z
DTSTAMP;VALUE=DATE-TIME:20260422T001246Z
CATEGORIES:APPOINTMENT
DESCRIPTION:Ofi for 3/167 Lower Heidelberg Road\, Ivanhoe VIC 3079 
LOCATION:3/167 Lower Heidelberg Road\, Ivanhoe VIC 3079 
URL:https://www.nelsonalexander.com.au/property/1889261/3167-lower-heidelb
 erg-road-ivanhoe-vic-3079/
END:VEVENT
END:VCALENDAR
