BEGIN:VCALENDAR
VERSION:2.0
PRODID:-// Nelson Alexander - Northcote iCal
CALSCALE:GREGORIAN
X-WR-CALDESC:
X-WR-CALNAME:
BEGIN:VEVENT
SUMMARY:Ofi for 31 Canning Street\, North Melbourne VIC 3051 
DTSTART;TZID=UTC;VALUE=DATE-TIME:20260429T020000Z
DTEND;TZID=UTC;VALUE=DATE-TIME:20260429T023000Z
DTSTAMP;VALUE=DATE-TIME:20260423T234017Z
CATEGORIES:APPOINTMENT
DESCRIPTION:Ofi for 31 Canning Street\, North Melbourne VIC 3051 
LOCATION:31 Canning Street\, North Melbourne VIC 3051 
URL:https://www.nelsonalexander.com.au/property/1889320/31-canning-street-
 north-melbourne-vic-3051/
END:VEVENT
END:VCALENDAR
