BEGIN:VCALENDAR
VERSION:2.0
PRODID:-// Nelson Alexander - Northcote iCal
CALSCALE:GREGORIAN
X-WR-CALDESC:
X-WR-CALNAME:
BEGIN:VEVENT
SUMMARY:Ofi for 72 Amess Street\, Carlton North VIC 3054 
DTSTART;TZID=UTC;VALUE=DATE-TIME:20260422T030000Z
DTEND;TZID=UTC;VALUE=DATE-TIME:20260422T033000Z
DTSTAMP;VALUE=DATE-TIME:20260420T002807Z
CATEGORIES:APPOINTMENT
DESCRIPTION:Ofi for 72 Amess Street\, Carlton North VIC 3054 
LOCATION:72 Amess Street\, Carlton North VIC 3054 
URL:https://www.nelsonalexander.com.au/property/1889423/72-amess-street-ca
 rlton-north-vic-3054/
END:VEVENT
END:VCALENDAR
