BEGIN:VCALENDAR
VERSION:2.0
PRODID:-// Nelson Alexander - Northcote iCal
CALSCALE:GREGORIAN
X-WR-CALDESC:
X-WR-CALNAME:
BEGIN:VEVENT
SUMMARY:Ofi for 99 Phillips Street\, Coburg VIC 3058 
DTSTART;TZID=UTC;VALUE=DATE-TIME:20260422T074000Z
DTEND;TZID=UTC;VALUE=DATE-TIME:20260422T080000Z
DTSTAMP;VALUE=DATE-TIME:20260423T234144Z
CATEGORIES:APPOINTMENT
DESCRIPTION:Ofi for 99 Phillips Street\, Coburg VIC 3058 
LOCATION:99 Phillips Street\, Coburg VIC 3058 
URL:https://www.nelsonalexander.com.au/property/1889891/99-phillips-street
 -coburg-vic-3058/
END:VEVENT
END:VCALENDAR
