BEGIN:VCALENDAR
VERSION:2.0
PRODID:-// Nelson Alexander - Northcote iCal
CALSCALE:GREGORIAN
X-WR-CALDESC:
X-WR-CALNAME:
BEGIN:VEVENT
SUMMARY:Ofi for 8 Aperture Street\, Coburg North VIC 3058 
DTSTART;TZID=UTC;VALUE=DATE-TIME:20260501T231500Z
DTEND;TZID=UTC;VALUE=DATE-TIME:20260501T234500Z
DTSTAMP;VALUE=DATE-TIME:20260426T012036Z
CATEGORIES:APPOINTMENT
DESCRIPTION:Ofi for 8 Aperture Street\, Coburg North VIC 3058 
LOCATION:8 Aperture Street\, Coburg North VIC 3058 
URL:https://www.nelsonalexander.com.au/property/1890116/8-aperture-street-
 coburg-north-vic-3058/
END:VEVENT
END:VCALENDAR
