BEGIN:VCALENDAR
VERSION:2.0
PRODID:-// Nelson Alexander - Northcote iCal
CALSCALE:GREGORIAN
X-WR-CALDESC:
X-WR-CALNAME:
BEGIN:VEVENT
SUMMARY:Ofi for 3/20 Orrong Avenue\, Reservoir VIC 3073 
DTSTART;TZID=UTC;VALUE=DATE-TIME:20260424T054500Z
DTEND;TZID=UTC;VALUE=DATE-TIME:20260424T060000Z
DTSTAMP;VALUE=DATE-TIME:20260423T191536Z
CATEGORIES:APPOINTMENT
DESCRIPTION:Ofi for 3/20 Orrong Avenue\, Reservoir VIC 3073 
LOCATION:3/20 Orrong Avenue\, Reservoir VIC 3073 
URL:https://www.nelsonalexander.com.au/property/1890357/320-orrong-avenue-
 reservoir-vic-3073/
END:VEVENT
END:VCALENDAR
