BEGIN:VCALENDAR
VERSION:2.0
PRODID:-// Nelson Alexander - Northcote iCal
CALSCALE:GREGORIAN
X-WR-CALDESC:
X-WR-CALNAME:
BEGIN:VEVENT
SUMMARY:Ofi for 13/357-359 Rathdowne Street\, Carlton VIC 3053 
DTSTART;TZID=UTC;VALUE=DATE-TIME:20260424T034500Z
DTEND;TZID=UTC;VALUE=DATE-TIME:20260424T040000Z
DTSTAMP;VALUE=DATE-TIME:20260422T202610Z
CATEGORIES:APPOINTMENT
DESCRIPTION:Ofi for 13/357-359 Rathdowne Street\, Carlton VIC 3053 
LOCATION:13/357-359 Rathdowne Street\, Carlton VIC 3053 
URL:https://www.nelsonalexander.com.au/property/1890844/13357-359-rathdown
 e-street-carlton-vic-3053/
END:VEVENT
END:VCALENDAR
