BEGIN:VCALENDAR
VERSION:2.0
PRODID:-// Nelson Alexander - Northcote iCal
CALSCALE:GREGORIAN
X-WR-CALDESC:
X-WR-CALNAME:
BEGIN:VEVENT
SUMMARY:Ofi for 5/18 Glencairn Avenue\, Camberwell VIC 3124 
DTSTART;TZID=UTC;VALUE=DATE-TIME:20260423T071500Z
DTEND;TZID=UTC;VALUE=DATE-TIME:20260423T073000Z
DTSTAMP;VALUE=DATE-TIME:20260422T052927Z
CATEGORIES:APPOINTMENT
DESCRIPTION:Ofi for 5/18 Glencairn Avenue\, Camberwell VIC 3124 
LOCATION:5/18 Glencairn Avenue\, Camberwell VIC 3124 
URL:https://www.nelsonalexander.com.au/property/1891104/518-glencairn-aven
 ue-camberwell-vic-3124/
END:VEVENT
END:VCALENDAR
