BEGIN:VCALENDAR
VERSION:2.0
PRODID:-// Nelson Alexander - Northcote iCal
CALSCALE:GREGORIAN
X-WR-CALDESC:
X-WR-CALNAME:
BEGIN:VEVENT
SUMMARY:Ofi for 8/29 Kooyong Road\, Armadale VIC 3143 
DTSTART;TZID=UTC;VALUE=DATE-TIME:20260423T055000Z
DTEND;TZID=UTC;VALUE=DATE-TIME:20260423T060500Z
DTSTAMP;VALUE=DATE-TIME:20260422T035148Z
CATEGORIES:APPOINTMENT
DESCRIPTION:Ofi for 8/29 Kooyong Road\, Armadale VIC 3143 
LOCATION:8/29 Kooyong Road\, Armadale VIC 3143 
URL:https://www.nelsonalexander.com.au/property/1891115/829-kooyong-road-a
 rmadale-vic-3143/
END:VEVENT
END:VCALENDAR
