BEGIN:VCALENDAR
VERSION:2.0
PRODID:-// Nelson Alexander - Northcote iCal
CALSCALE:GREGORIAN
X-WR-CALDESC:
X-WR-CALNAME:
BEGIN:VEVENT
SUMMARY:Ofi for 1 St James Terrace\, Hawthorn VIC 3122 
DTSTART;TZID=UTC;VALUE=DATE-TIME:20260425T043000Z
DTEND;TZID=UTC;VALUE=DATE-TIME:20260425T050000Z
DTSTAMP;VALUE=DATE-TIME:20260426T005302Z
CATEGORIES:APPOINTMENT
DESCRIPTION:Ofi for 1 St James Terrace\, Hawthorn VIC 3122 
LOCATION:1 St James Terrace\, Hawthorn VIC 3122 
URL:https://www.nelsonalexander.com.au/property/1891188/1-st-james-terrace
 -hawthorn-vic-3122/
END:VEVENT
END:VCALENDAR
