BEGIN:VCALENDAR
VERSION:2.0
PRODID:-// Nelson Alexander - Northcote iCal
CALSCALE:GREGORIAN
X-WR-CALDESC:
X-WR-CALNAME:
BEGIN:VEVENT
SUMMARY:Ofi for 1023/40 Hall Street\, Moonee Ponds VIC 3039 
DTSTART;TZID=UTC;VALUE=DATE-TIME:20260425T041500Z
DTEND;TZID=UTC;VALUE=DATE-TIME:20260425T043500Z
DTSTAMP;VALUE=DATE-TIME:20260424T021736Z
CATEGORIES:APPOINTMENT
DESCRIPTION:Ofi for 1023/40 Hall Street\, Moonee Ponds VIC 3039 
LOCATION:1023/40 Hall Street\, Moonee Ponds VIC 3039 
URL:https://www.nelsonalexander.com.au/property/1891506/102340-hall-street
 -moonee-ponds-vic-3039/
END:VEVENT
END:VCALENDAR
