BEGIN:VCALENDAR
VERSION:2.0
PRODID:-// Nelson Alexander - Northcote iCal
CALSCALE:GREGORIAN
X-WR-CALDESC:
X-WR-CALNAME:
BEGIN:VEVENT
SUMMARY:Ofi for 191 Maribyrnong Road\, Ascot Vale VIC 3032 
DTSTART;TZID=UTC;VALUE=DATE-TIME:20260425T030000Z
DTEND;TZID=UTC;VALUE=DATE-TIME:20260425T033000Z
DTSTAMP;VALUE=DATE-TIME:20260422T233733Z
CATEGORIES:APPOINTMENT
DESCRIPTION:Ofi for 191 Maribyrnong Road\, Ascot Vale VIC 3032 
LOCATION:191 Maribyrnong Road\, Ascot Vale VIC 3032 
URL:https://www.nelsonalexander.com.au/property/1891539/191-maribyrnong-ro
 ad-ascot-vale-vic-3032/
END:VEVENT
END:VCALENDAR
