BEGIN:VCALENDAR
VERSION:2.0
PRODID:-// Nelson Alexander - Northcote iCal
CALSCALE:GREGORIAN
X-WR-CALDESC:
X-WR-CALNAME:
BEGIN:VEVENT
SUMMARY:Ofi for 19/3 Wardens Walk\, Coburg VIC 3058 
DTSTART;TZID=UTC;VALUE=DATE-TIME:20260508T230000Z
DTEND;TZID=UTC;VALUE=DATE-TIME:20260508T233000Z
DTSTAMP;VALUE=DATE-TIME:20260423T010520Z
CATEGORIES:APPOINTMENT
DESCRIPTION:Ofi for 19/3 Wardens Walk\, Coburg VIC 3058 
LOCATION:19/3 Wardens Walk\, Coburg VIC 3058 
URL:https://www.nelsonalexander.com.au/property/1891542/193-wardens-walk-c
 oburg-vic-3058/
END:VEVENT
END:VCALENDAR
