BEGIN:VCALENDAR
VERSION:2.0
PRODID:-// Nelson Alexander - Northcote iCal
CALSCALE:GREGORIAN
X-WR-CALDESC:
X-WR-CALNAME:
BEGIN:VEVENT
SUMMARY:Ofi for 10 George Street\, Flemington VIC 3031 
DTSTART;TZID=UTC;VALUE=DATE-TIME:20260428T063000Z
DTEND;TZID=UTC;VALUE=DATE-TIME:20260428T064500Z
DTSTAMP;VALUE=DATE-TIME:20260425T062055Z
CATEGORIES:APPOINTMENT
DESCRIPTION:Ofi for 10 George Street\, Flemington VIC 3031 
LOCATION:10 George Street\, Flemington VIC 3031 
URL:https://www.nelsonalexander.com.au/property/1891551/10-george-street-f
 lemington-vic-3031/
END:VEVENT
END:VCALENDAR
