BEGIN:VCALENDAR
VERSION:2.0
PRODID:-// Nelson Alexander - Northcote iCal
CALSCALE:GREGORIAN
X-WR-CALDESC:
X-WR-CALNAME:
BEGIN:VEVENT
SUMMARY:Ofi for 2/111 Quinn Grove\, Keilor East VIC 3033 
DTSTART;TZID=UTC;VALUE=DATE-TIME:20260427T074500Z
DTEND;TZID=UTC;VALUE=DATE-TIME:20260427T081500Z
DTSTAMP;VALUE=DATE-TIME:20260424T212147Z
CATEGORIES:APPOINTMENT
DESCRIPTION:Ofi for 2/111 Quinn Grove\, Keilor East VIC 3033 
LOCATION:2/111 Quinn Grove\, Keilor East VIC 3033 
URL:https://www.nelsonalexander.com.au/property/1891552/2111-quinn-grove-k
 eilor-east-vic-3033/
END:VEVENT
END:VCALENDAR
