BEGIN:VCALENDAR
VERSION:2.0
PRODID:-// Nelson Alexander - Northcote iCal
CALSCALE:GREGORIAN
X-WR-CALDESC:
X-WR-CALNAME:
BEGIN:VEVENT
SUMMARY:Ofi for 203/58 La Scala Avenue\, Maribyrnong VIC 3032 
DTSTART;TZID=UTC;VALUE=DATE-TIME:20260423T063000Z
DTEND;TZID=UTC;VALUE=DATE-TIME:20260423T064500Z
DTSTAMP;VALUE=DATE-TIME:20260422T233903Z
CATEGORIES:APPOINTMENT
DESCRIPTION:Ofi for 203/58 La Scala Avenue\, Maribyrnong VIC 3032 
LOCATION:203/58 La Scala Avenue\, Maribyrnong VIC 3032 
URL:https://www.nelsonalexander.com.au/property/1891596/20358-la-scala-ave
 nue-maribyrnong-vic-3032/
END:VEVENT
END:VCALENDAR
