BEGIN:VCALENDAR
VERSION:2.0
PRODID:-// Nelson Alexander - Northcote iCal
CALSCALE:GREGORIAN
X-WR-CALDESC:
X-WR-CALNAME:
BEGIN:VEVENT
SUMMARY:Ofi for 10 Ellesmere Street\, Northcote VIC 3070 
DTSTART;TZID=UTC;VALUE=DATE-TIME:20260502T043000Z
DTEND;TZID=UTC;VALUE=DATE-TIME:20260502T050000Z
DTSTAMP;VALUE=DATE-TIME:20260425T063304Z
CATEGORIES:APPOINTMENT
DESCRIPTION:Ofi for 10 Ellesmere Street\, Northcote VIC 3070 
LOCATION:10 Ellesmere Street\, Northcote VIC 3070 
URL:https://www.nelsonalexander.com.au/property/1891632/10-ellesmere-stree
 t-northcote-vic-3070/
END:VEVENT
END:VCALENDAR
