BEGIN:VCALENDAR
VERSION:2.0
PRODID:-// Nelson Alexander - Northcote iCal
CALSCALE:GREGORIAN
X-WR-CALDESC:
X-WR-CALNAME:
BEGIN:VEVENT
SUMMARY:Ofi for 63 Connolly Avenue\, Coburg VIC 3058 
DTSTART;TZID=UTC;VALUE=DATE-TIME:20260425T034500Z
DTEND;TZID=UTC;VALUE=DATE-TIME:20260425T041500Z
DTSTAMP;VALUE=DATE-TIME:20260424T034900Z
CATEGORIES:APPOINTMENT
DESCRIPTION:Ofi for 63 Connolly Avenue\, Coburg VIC 3058 
LOCATION:63 Connolly Avenue\, Coburg VIC 3058 
URL:https://www.nelsonalexander.com.au/property/1891731/63-connolly-avenue
 -coburg-vic-3058/
END:VEVENT
END:VCALENDAR
