BEGIN:VCALENDAR
VERSION:2.0
PRODID:-// Nelson Alexander - Northcote iCal
CALSCALE:GREGORIAN
X-WR-CALDESC:
X-WR-CALNAME:
BEGIN:VEVENT
SUMMARY:Ofi for 1/54 Pine Street\, Reservoir VIC 3073 
DTSTART;TZID=UTC;VALUE=DATE-TIME:20260425T053000Z
DTEND;TZID=UTC;VALUE=DATE-TIME:20260425T060000Z
DTSTAMP;VALUE=DATE-TIME:20260424T004233Z
CATEGORIES:APPOINTMENT
DESCRIPTION:Ofi for 1/54 Pine Street\, Reservoir VIC 3073 
LOCATION:1/54 Pine Street\, Reservoir VIC 3073 
URL:https://www.nelsonalexander.com.au/property/1891750/154-pine-street-re
 servoir-vic-3073/
END:VEVENT
END:VCALENDAR
