BEGIN:VCALENDAR
VERSION:2.0
PRODID:-// Nelson Alexander - Northcote iCal
CALSCALE:GREGORIAN
X-WR-CALDESC:
X-WR-CALNAME:
BEGIN:VEVENT
SUMMARY:Ofi for 5 Wattle Grove\, Reservoir VIC 3073 
DTSTART;TZID=UTC;VALUE=DATE-TIME:20260425T031500Z
DTEND;TZID=UTC;VALUE=DATE-TIME:20260425T034500Z
DTSTAMP;VALUE=DATE-TIME:20260424T021125Z
CATEGORIES:APPOINTMENT
DESCRIPTION:Ofi for 5 Wattle Grove\, Reservoir VIC 3073 
LOCATION:5 Wattle Grove\, Reservoir VIC 3073 
URL:https://www.nelsonalexander.com.au/property/1891737/5-wattle-grove-res
 ervoir-vic-3073/
END:VEVENT
END:VCALENDAR
