BEGIN:VCALENDAR
VERSION:2.0
PRODID:-// Nelson Alexander - Northcote iCal
CALSCALE:GREGORIAN
X-WR-CALDESC:
X-WR-CALNAME:
BEGIN:VEVENT
SUMMARY:Ofi for 4/1 Hamilton Street\, Alphington VIC 3078 
DTSTART;TZID=UTC;VALUE=DATE-TIME:20260430T074500Z
DTEND;TZID=UTC;VALUE=DATE-TIME:20260430T081500Z
DTSTAMP;VALUE=DATE-TIME:20260424T030505Z
CATEGORIES:APPOINTMENT
DESCRIPTION:Ofi for 4/1 Hamilton Street\, Alphington VIC 3078 
LOCATION:4/1 Hamilton Street\, Alphington VIC 3078 
URL:https://www.nelsonalexander.com.au/property/1891801/41-hamilton-street
 -alphington-vic-3078/
END:VEVENT
END:VCALENDAR
