BEGIN:VCALENDAR
VERSION:2.0
PRODID:-// Nelson Alexander - Northcote iCal
CALSCALE:GREGORIAN
X-WR-CALDESC:
X-WR-CALNAME:
BEGIN:VEVENT
SUMMARY:Ofi for 2/65 York Street\, Richmond VIC 3121 
DTSTART;TZID=UTC;VALUE=DATE-TIME:20260425T051500Z
DTEND;TZID=UTC;VALUE=DATE-TIME:20260425T054500Z
DTSTAMP;VALUE=DATE-TIME:20260425T032649Z
CATEGORIES:APPOINTMENT
DESCRIPTION:Ofi for 2/65 York Street\, Richmond VIC 3121 
LOCATION:2/65 York Street\, Richmond VIC 3121 
URL:https://www.nelsonalexander.com.au/property/1891813/265-york-street-ri
 chmond-vic-3121/
END:VEVENT
END:VCALENDAR
