BEGIN:VCALENDAR
VERSION:2.0
PRODID:-// Nelson Alexander - Northcote iCal
CALSCALE:GREGORIAN
X-WR-CALDESC:
X-WR-CALNAME:
BEGIN:VEVENT
SUMMARY:Ofi for 6/20-22 Bent Street\, Malvern East VIC 3145 
DTSTART;TZID=UTC;VALUE=DATE-TIME:20260425T030000Z
DTEND;TZID=UTC;VALUE=DATE-TIME:20260425T033000Z
DTSTAMP;VALUE=DATE-TIME:20260426T005905Z
CATEGORIES:APPOINTMENT
DESCRIPTION:Ofi for 6/20-22 Bent Street\, Malvern East VIC 3145 
LOCATION:6/20-22 Bent Street\, Malvern East VIC 3145 
URL:https://www.nelsonalexander.com.au/property/1892002/620-22-bent-street
 -malvern-east-vic-3145/
END:VEVENT
END:VCALENDAR
