BEGIN:VCALENDAR
VERSION:2.0
PRODID:-// Nelson Alexander - Northcote iCal
CALSCALE:GREGORIAN
X-WR-CALDESC:
X-WR-CALNAME:
BEGIN:VEVENT
SUMMARY:Ofi for 314/11 Urquhart Street\, Coburg VIC 3058 
DTSTART;TZID=UTC;VALUE=DATE-TIME:20260425T030000Z
DTEND;TZID=UTC;VALUE=DATE-TIME:20260425T033000Z
DTSTAMP;VALUE=DATE-TIME:20260426T005845Z
CATEGORIES:APPOINTMENT
DESCRIPTION:Ofi for 314/11 Urquhart Street\, Coburg VIC 3058 
LOCATION:314/11 Urquhart Street\, Coburg VIC 3058 
URL:https://www.nelsonalexander.com.au/property/1892063/31411-urquhart-str
 eet-coburg-vic-3058/
END:VEVENT
END:VCALENDAR
