BEGIN:VCALENDAR
VERSION:2.0
PRODID:-// Nelson Alexander - Northcote iCal
CALSCALE:GREGORIAN
X-WR-CALDESC:
X-WR-CALNAME:
BEGIN:VEVENT
SUMMARY:Ofi for 501a/294 Bell Street\, Heidelberg West VIC 3081 
DTSTART;TZID=UTC;VALUE=DATE-TIME:20260425T043000Z
DTEND;TZID=UTC;VALUE=DATE-TIME:20260425T050000Z
DTSTAMP;VALUE=DATE-TIME:20260424T004352Z
CATEGORIES:APPOINTMENT
DESCRIPTION:Ofi for 501a/294 Bell Street\, Heidelberg West VIC 3081 
LOCATION:501a/294 Bell Street\, Heidelberg West VIC 3081 
URL:https://www.nelsonalexander.com.au/property/1892169/501a294-bell-stree
 t-heidelberg-west-vic-3081/
END:VEVENT
END:VCALENDAR
